17.383999648777628
0.000000000000000
0.000000000000000
-17.383999648777628
2294070.296463685600000
643583.665787296490000
