17.397762646878277
0.000000000000000
0.000000000000000
-17.397762646878277
1771228.759544816100000
461380.223339988500000
