17.342990036934140
0.000000000000000
0.000000000000000
-17.342990036934140
428708.085350521140000
686910.247119554320000
