17.362522265835779
0.000000000000000
0.000000000000000
-17.362522265835779
426273.294745354800000
685137.476532630740000
