17.378577104075376
0.000000000000000
0.000000000000000
-17.378577104075376
2732020.385672339200000
925700.551683929980000
