34.604682763008391
0.000000000000000
0.000000000000000
-34.604682763008391
1238891.570901788800000
844697.242214426050000
