8.802711593966693
0.000000000000000
0.000000000000000
-8.802711593966693
2184056.537670122500000
97114.956886115993000
