17.327512890036093
0.000000000000000
0.000000000000000
-17.327512890036093
2578331.432612454500000
1105413.112819295400000
