17.390891340319442
0.000000000000000
0.000000000000000
-17.390891340319442
2577654.239241587000000
1103989.724269222000000
