8.798295346564515
0.000000000000000
0.000000000000000
-8.798295346564515
2183366.387425338400000
188090.453760807140000
