17.383446046552585
0.000000000000000
0.000000000000000
-17.383446046552585
1382083.066543793100000
101837.408414878200000
