17.385683067517352
0.000000000000000
0.000000000000000
-17.385683067517352
1020613.579080596700000
568387.636568600660000
