17.333503386583441
0.000000000000000
0.000000000000000
-17.333503386583441
1770099.970359522800000
551030.397553239250000
