17.325777356892857
0.000000000000000
0.000000000000000
-17.325777356892857
2444056.440236502300000
471086.124105775150000
