17.375931352391333
0.000000000000000
0.000000000000000
-17.375931352391333
2293736.021115585700000
461602.850426447400000
