17.411036120552950
0.000000000000000
0.000000000000000
-17.411036120552950
2218329.934391643900000
733642.103182816990000
