17.371710957458081
0.000000000000000
0.000000000000000
-17.371710957458081
1248247.761803127400000
559455.053647560650000
