17.399144236301442
0.000000000000000
0.000000000000000
-17.399144236301442
2368756.422639543200000
649636.350707674980000
