17.441723203456604
0.000000000000000
0.000000000000000
-17.441723203456604
2953511.403381925100000
932392.305106480840000
