34.650100326374599
0.000000000000000
0.000000000000000
-34.650100326374599
499058.636243036370000
869406.287395625030000
