17.375666427367495
0.000000000000000
0.000000000000000
-17.375666427367495
1022990.109258377600000
659410.008557403340000
