17.390308659960866
0.000000000000000
0.000000000000000
-17.390308659960866
1844239.171435740100000
462403.533491077020000
