17.366508005533884
0.000000000000000
0.000000000000000
-17.366508005533884
1177905.479036542100000
836020.169711110530000
