8.811693828560903
0.000000000000000
0.000000000000000
-8.811693828560903
2221497.857307983600000
188316.182518389570000
