17.378379364481013
0.000000000000000
0.000000000000000
-17.378379364481013
1248626.954075586700000
651706.797109315520000
