17.344832526293221
0.000000000000000
0.000000000000000
-17.344832526293221
1245866.426229206100000
654945.364315524230000
