17.382940524392342
0.000000000000000
0.000000000000000
-17.382940524392342
1104664.171324535500000
837995.993912157020000
