8.798388321390135
0.000000000000000
0.000000000000000
-8.798388321390135
2222182.681503434700000
97332.005982335075000
