17.351649106074152
0.000000000000000
0.000000000000000
-17.351649106074152
2372414.643435190900000
372635.091325139980000
