17.388856186531772
0.000000000000000
0.000000000000000
-17.388856186531772
1026985.547256782700000
750120.774499192950000
