17.351393708100250
0.000000000000000
0.000000000000000
-17.351393708100250
1699316.432162864800000
1099702.649314069900000
