17.445769885397677
0.000000000000000
0.000000000000000
-17.445769885397677
2521154.739984409000000
464423.287474387730000
