17.390175632048372
0.000000000000000
0.000000000000000
-17.390175632048372
1922310.462240702500000
1100042.988780126700000
