34.718627075855693
0.000000000000000
0.000000000000000
-34.718627075855693
1093043.568866069700000
847160.639121902180000
