17.417344372438318
0.000000000000000
0.000000000000000
-17.417344372438318
1480600.353093389400000
1101603.791878919100000
