34.729689183197664
0.000000000000000
0.000000000000000
-34.729689183197664
944615.866508627430000
850842.836781751600000
