17.417128399399399
0.000000000000000
0.000000000000000
-17.417128399399399
1546724.046327344800000
644737.956707054980000
