17.376824834429051
0.000000000000000
0.000000000000000
-17.376824834429051
1257746.288742343900000
1108095.644597862100000
