17.411374555444432
0.000000000000000
0.000000000000000
-17.411374555444432
2799511.313947341900000
1109917.415542669800000
