34.711623248475092
0.000000000000000
0.000000000000000
-34.711623248475092
645785.122449447520000
864955.922637062380000
