8.798550898107212
0.000000000000000
0.000000000000000
-8.798550898107212
2070160.247928017300000
187452.088561238750000
