34.712927649404975
0.000000000000000
0.000000000000000
-34.712927649404975
495510.347825096920000
690009.291605524490000
