17.416651089819826
0.000000000000000
0.000000000000000
-17.416651089819826
2518665.890906503900000
555616.811025387840000
