17.380656799968165
0.000000000000000
0.000000000000000
-17.380656799968165
2447539.808850495100000
373252.390580856880000
