8.823216546413075
0.000000000000000
0.000000000000000
-8.823216546413075
2107984.260767918100000
187636.888514951570000
