17.405644432543347
0.000000000000000
0.000000000000000
-17.405644432543347
2070976.462253260700000
1005945.372797564500000
