17.338241225683031
0.000000000000000
0.000000000000000
-17.338241225683031
1913006.806753216800000
283061.136836197110000
