17.364888017702395
0.000000000000000
0.000000000000000
-17.364888017702395
2439530.348003116000000
827370.685946787590000
