8.835797000962160
0.000000000000000
0.000000000000000
-8.835797000962160
2070510.654229498200000
141876.412144671540000
