34.661792585036366
0.000000000000000
0.000000000000000
-34.661792585036366
793414.126784114520000
668830.711516355050000
